BEGIN:VCALENDAR
VERSION:2.0
PRODID:SchoolNow
CALSCALE:GREGORIAN
BEGIN:VEVENT
UID:a20aa3da-8f80-11eb-b2b5-0270afcd34f5
DTSTAMP:20210328T044700Z
SUMMARY:Easter Break
URL;VALUE=URI:https://www.bereanchristian.com/calendar/2564114/easter-break
DTSTART;VALUE=DATE:20210402
DTEND;VALUE=DATE:20210410
END:VEVENT
END:VCALENDAR
