BEGIN:VCALENDAR
VERSION:2.0
PRODID:SchoolNow
CALSCALE:GREGORIAN
BEGIN:VEVENT
UID:c52ea4c0-5420-11ea-8021-0adea8587c13
DTSTAMP:20200220T203711Z
SUMMARY:Reflection: A Night of Dramatic One Acts
URL;VALUE=URI:https://www.bereanchristian.com/calendar/2204747/one-acts-clo
 ne
DTSTART:20200229T220000Z
DTEND:20200301T003000Z
END:VEVENT
END:VCALENDAR
