BEGIN:VCALENDAR
VERSION:2.0
PRODID:SchoolNow
CALSCALE:GREGORIAN
BEGIN:VEVENT
UID:4e2042f6-4388-11ea-9ca5-12142036cb97
DTSTAMP:20200130T174529Z
SUMMARY:The Times class field trip to DVC
URL;VALUE=URI:https://www.bereanchristian.com/calendar/2193053/the-times-cl
 ass-field-trip-to-dvc
DTSTART:20200326T183000Z
DTEND:20200326T203000Z
END:VEVENT
END:VCALENDAR
