BEGIN:VCALENDAR
VERSION:2.0
PRODID:SchoolNow
CALSCALE:GREGORIAN
BEGIN:VEVENT
UID:2c4f9d70-4388-11ea-afff-12142036cb97
DTSTAMP:20200130T174432Z
SUMMARY:The Times class field trip to DVC
URL;VALUE=URI:https://www.bereanchristian.com/calendar/2193052/the-times-cl
 ass-field-trip-to-dvc
DTSTART:20200325T180000Z
DTEND:20200325T200000Z
END:VEVENT
END:VCALENDAR
