BEGIN:VCALENDAR
VERSION:2.0
PRODID:SchoolNow
CALSCALE:GREGORIAN
BEGIN:VEVENT
UID:523c5330-37e3-11ea-94f7-0a771e949e93
DTSTAMP:20200115T220646Z
SUMMARY:Humanities assessment in B5 @ lunch
URL;VALUE=URI:https://www.bereanchristian.com/calendar/2181179/humanities-a
 ssessment-in-b5-lunch
DTSTART:20200212T202500Z
DTEND:20200212T205500Z
END:VEVENT
END:VCALENDAR
