BEGIN:VCALENDAR
VERSION:2.0
PRODID:SchoolNow
CALSCALE:GREGORIAN
BEGIN:VEVENT
UID:0ebdc198-37e3-11ea-b391-0a771e949e93
DTSTAMP:20200130T175441Z
SUMMARY:Humanities assessment in B5 @ lunch
URL;VALUE=URI:https://www.bereanchristian.com/calendar/2181174/humanities-a
 ssessment-in-b5-lunch
DTSTART:20200210T200000Z
DTEND:20200210T203000Z
END:VEVENT
END:VCALENDAR
