BEGIN:VCALENDAR
VERSION:2.0
PRODID:SchoolNow
CALSCALE:GREGORIAN
BEGIN:VEVENT
UID:ca429714-37e2-11ea-a589-0a771e949e93
DTSTAMP:20200115T220258Z
SUMMARY:Humanities assessments in B5 @ lunch
URL;VALUE=URI:https://www.bereanchristian.com/calendar/2181164/humanities-a
 ssessments-in-b5-lunch
DTSTART:20200206T193000Z
DTEND:20200206T200000Z
END:VEVENT
END:VCALENDAR
