BEGIN:VCALENDAR
VERSION:2.0
PRODID:SchoolNow
CALSCALE:GREGORIAN
BEGIN:VEVENT
UID:377f398a-37df-11ea-98e7-0a4919821fff
DTSTAMP:20200115T214543Z
SUMMARY:Humanities AP Honors student info meeting\, Gym
URL;VALUE=URI:https://www.bereanchristian.com/calendar/2181121/humanities-a
 ssessments
DTSTART:20200204T200000Z
DTEND:20200204T204500Z
END:VEVENT
END:VCALENDAR
