BEGIN:VCALENDAR
VERSION:2.0
PRODID:SchoolNow
CALSCALE:GREGORIAN
BEGIN:VEVENT
UID:48a53156-37d0-11ea-a1eb-12576acf9f6d
DTSTAMP:20200115T195029Z
SUMMARY:Student Government Field Trip to Leadership Conference @ Concord Hi
 gh
URL;VALUE=URI:https://www.bereanchristian.com/calendar/2181090/student-gove
 rnment-field-trip-to-leadership-conference-concord-high
DTSTART:20200221T160000Z
DTEND:20200221T223000Z
END:VEVENT
END:VCALENDAR
