BEGIN:VCALENDAR
VERSION:2.0
PRODID:SchoolNow
CALSCALE:GREGORIAN
BEGIN:VEVENT
UID:84d2600a-324d-11ea-90bf-12508c95ed47
DTSTAMP:20200224T235758Z
SUMMARY:The Times Field Trip Todos Santos Plaza
URL;VALUE=URI:https://www.bereanchristian.com/calendar/2175112/the-times-fi
 eld-trip-todoa-santos-plaza
DTSTART:20200227T193000Z
DTEND:20200227T213000Z
END:VEVENT
END:VCALENDAR
