BEGIN:VCALENDAR
VERSION:2.0
PRODID:SchoolNow
CALSCALE:GREGORIAN
BEGIN:VEVENT
UID:4d7903a2-324d-11ea-82a9-12508c95ed47
DTSTAMP:20200108T193018Z
SUMMARY:The Times Field Trip to Todos Santos Plaza
URL;VALUE=URI:https://www.bereanchristian.com/calendar/2175111/the-times-fi
 eld-trip-to-todos-santos-plaza
DTSTART:20200226T190000Z
DTEND:20200226T210000Z
END:VEVENT
END:VCALENDAR
