BEGIN:VCALENDAR
VERSION:2.0
PRODID:SchoolNow
CALSCALE:GREGORIAN
BEGIN:VEVENT
UID:e1d155c2-3248-11ea-b534-121889ac0a65
DTSTAMP:20200108T185839Z
SUMMARY:ACT Test prep workshop
URL;VALUE=URI:https://www.bereanchristian.com/calendar/2175103/act-test-pre
 p-workshop
DTSTART:20200307T170000Z
DTEND:20200307T230000Z
END:VEVENT
END:VCALENDAR
