BEGIN:VCALENDAR
VERSION:2.0
PRODID:SchoolNow
CALSCALE:GREGORIAN
BEGIN:VEVENT
UID:093f013c-3248-11ea-96d6-121889ac0a65
DTSTAMP:20200108T185605Z
SUMMARY:SAT Test prep workshop
URL;VALUE=URI:https://www.bereanchristian.com/calendar/2175102/sat-test-pre
 p-workshop
DTSTART:20200222T170000Z
DTEND:20200222T230000Z
END:VEVENT
END:VCALENDAR
