BEGIN:VCALENDAR
VERSION:2.0
PRODID:SchoolNow
CALSCALE:GREGORIAN
BEGIN:VEVENT
UID:d763b1fa-3245-11ea-b76c-0a6879bc104d
DTSTAMP:20200108T183653Z
SUMMARY:DVC Info meeting for Seniors
URL;VALUE=URI:https://www.bereanchristian.com/calendar/2175100/dvc-info-mee
 ting-for-seniors
DTSTART:20200212T223000Z
DTEND:20200212T233000Z
END:VEVENT
END:VCALENDAR
