BEGIN:VCALENDAR
VERSION:2.0
PRODID:SchoolNow
CALSCALE:GREGORIAN
BEGIN:VEVENT
UID:ce372592-eb84-11e9-8870-12ceb7b744c8
DTSTAMP:20191010T173843Z
SUMMARY:College App open lab
LOCATION:C2
URL;VALUE=URI:https://www.bereanchristian.com/calendar/2118655/college-app-
 open-lab
DTSTART:20191014T221500Z
DTEND:20191014T231500Z
END:VEVENT
END:VCALENDAR
