BEGIN:VCALENDAR
VERSION:2.0
PRODID:SchoolNow
CALSCALE:GREGORIAN
BEGIN:VEVENT
UID:eb4de988-da2a-11e9-a69e-12d6b71495f2
DTSTAMP:20191014T185104Z
SUMMARY:BCHS Trap Club Meeting
URL;VALUE=URI:https://www.bereanchristian.com/calendar/2097883/bchs-trap-cl
 ub-meeting
DTSTART:20191024T013000Z
DTEND:20191024T030000Z
END:VEVENT
END:VCALENDAR
