BEGIN:VCALENDAR
VERSION:2.0
PRODID:SchoolNow
CALSCALE:GREGORIAN
BEGIN:VEVENT
UID:6af8c97c-d644-11e9-9986-12f494fbf93c
DTSTAMP:20190913T163455Z
SUMMARY:College Ap Open Lab
URL;VALUE=URI:https://www.bereanchristian.com/calendar/2093448/college-ap-o
 pen-lab
DTSTART:20190920T213000Z
DTEND:20190920T223000Z
END:VEVENT
END:VCALENDAR
