BEGIN:VCALENDAR
VERSION:2.0
PRODID:SchoolNow
CALSCALE:GREGORIAN
BEGIN:VEVENT
UID:86ab4e82-d640-11e9-bf73-125e72d6e20e
DTSTAMP:20190913T160703Z
SUMMARY:College Ap Open lab
URL;VALUE=URI:https://www.bereanchristian.com/calendar/2093440/college-ap-o
 pen-lab
DTSTART:20190916T221500Z
DTEND:20190916T231500Z
END:VEVENT
END:VCALENDAR
