BEGIN:VCALENDAR
VERSION:2.0
PRODID:SchoolNow
CALSCALE:GREGORIAN
BEGIN:VEVENT
UID:460cf1e0-c2a5-11e9-bb76-0a4bf6f9f99a
DTSTAMP:20200123T001114Z
SUMMARY:Berean Speaker Series: Debt Free College - Robert P. Fry\, Jr.
URL;VALUE=URI:https://www.bereanchristian.com/calendar/2067967/berean-speak
 er-series-debt-free-college-robert-p-fry-jr
DTSTART:20200304T030000Z
DTEND:20200304T043000Z
END:VEVENT
END:VCALENDAR
