BEGIN:VCALENDAR
VERSION:2.0
PRODID:SchoolNow
CALSCALE:GREGORIAN
BEGIN:VEVENT
UID:d614f2b2-c2a3-11e9-ab71-0a4bf6f9f99a
DTSTAMP:20190819T170733Z
SUMMARY:Berean Speaker Series: Let’s Talk: A Communication Workshop for P
 arents and Teens - Sean Donohue
URL;VALUE=URI:https://www.bereanchristian.com/calendar/2067964/berean-speak
 er-series-let-s-talk-a-communication-workshop-for-parents-and-teens-sean-d
 onohue
DTSTART:20190918T020000Z
DTEND:20190918T033000Z
END:VEVENT
END:VCALENDAR
