BEGIN:VCALENDAR
VERSION:2.0
PRODID:SchoolNow
CALSCALE:GREGORIAN
BEGIN:VEVENT
UID:b9762a58-b3d6-11e9-8aff-12d9de80558a
DTSTAMP:20190731T210402Z
SUMMARY:GOLD Bell\, 3:00 PM Dismissal
URL;VALUE=URI:https://www.bereanchristian.com/calendar/2044205/gold-bell-3-
 00-pm-dismissal-clone-clone
DTSTART;VALUE=DATE:20200506
DTEND;VALUE=DATE:20200507
END:VEVENT
END:VCALENDAR
