BEGIN:VCALENDAR
VERSION:2.0
PRODID:SchoolNow
CALSCALE:GREGORIAN
BEGIN:VEVENT
UID:866d1e00-b3d6-11e9-80c4-0aa3647d934a
DTSTAMP:20190731T210237Z
SUMMARY:BLUE Bell\, 2:20 PM Dismissal
URL;VALUE=URI:https://www.bereanchristian.com/calendar/2044202/blue-bell-2-
 20-dismissal-clone-clone-clone-clone
DTSTART;VALUE=DATE:20200318
DTEND;VALUE=DATE:20200319
END:VEVENT
END:VCALENDAR
