BEGIN:VCALENDAR
VERSION:2.0
PRODID:SchoolNow
CALSCALE:GREGORIAN
BEGIN:VEVENT
UID:77ecaa0e-b3d5-11e9-bc86-0a7a299e7854
DTSTAMP:20190731T205503Z
SUMMARY:RED Bell\, 2:25 PM Dismissal
URL;VALUE=URI:https://www.bereanchristian.com/calendar/2044196/red-bell-2-2
 5-pm-dismissal-clone
DTSTART;VALUE=DATE:20190925
DTEND;VALUE=DATE:20190926
END:VEVENT
END:VCALENDAR
