BEGIN:VCALENDAR
VERSION:2.0
PRODID:SchoolNow
CALSCALE:GREGORIAN
BEGIN:VEVENT
UID:2ba60910-b3d5-11e9-ab8e-0a7a299e7854
DTSTAMP:20190731T205255Z
SUMMARY:GOLD Bell\, 3:00 PM Dismissal
URL;VALUE=URI:https://www.bereanchristian.com/calendar/2044193/gold-bell-3-
 00-pm-dismissal-clone-clone
DTSTART;VALUE=DATE:20190829
DTEND;VALUE=DATE:20190830
END:VEVENT
END:VCALENDAR
