BEGIN:VCALENDAR
VERSION:2.0
PRODID:SchoolNow
CALSCALE:GREGORIAN
BEGIN:VEVENT
UID:3753886a-b3d4-11e9-900e-12d377995672
DTSTAMP:20190731T204605Z
SUMMARY:RED Bell\, 2:25 PM Dismissal
URL;VALUE=URI:https://www.bereanchristian.com/calendar/2044186/red-bell-2-2
 5-pm-dismissal-clone
DTSTART;VALUE=DATE:20200501
DTEND;VALUE=DATE:20200502
END:VEVENT
END:VCALENDAR
