BEGIN:VCALENDAR
VERSION:2.0
PRODID:SchoolNow
CALSCALE:GREGORIAN
BEGIN:VEVENT
UID:1b7ff1aa-b3d4-11e9-9c3c-12d377995672
DTSTAMP:20190731T204518Z
SUMMARY:RED Bell\, 2:25 PM Dismissal
URL;VALUE=URI:https://www.bereanchristian.com/calendar/2044184/red-bell-2-2
 5-pm-dismissal-clone
DTSTART;VALUE=DATE:20200417
DTEND;VALUE=DATE:20200418
END:VEVENT
END:VCALENDAR
