BEGIN:VCALENDAR
VERSION:2.0
PRODID:SchoolNow
CALSCALE:GREGORIAN
BEGIN:VEVENT
UID:0c48aef2-b3d4-11e9-93d1-12d377995672
DTSTAMP:20190731T204453Z
SUMMARY:RED Bell\, 2:25 PM Dismissal
URL;VALUE=URI:https://www.bereanchristian.com/calendar/2044183/red-bell-2-2
 5-pm-dismissal-clone
DTSTART;VALUE=DATE:20200403
DTEND;VALUE=DATE:20200404
END:VEVENT
END:VCALENDAR
