BEGIN:VCALENDAR
VERSION:2.0
PRODID:SchoolNow
CALSCALE:GREGORIAN
BEGIN:VEVENT
UID:f81cf08c-b3d3-11e9-8de5-12d377995672
DTSTAMP:20190731T204419Z
SUMMARY:RED Bell\, 2:25 PM Dismissal
URL;VALUE=URI:https://www.bereanchristian.com/calendar/2044182/red-bell-2-2
 5-pm-dismissal-clone
DTSTART;VALUE=DATE:20200320
DTEND;VALUE=DATE:20200321
END:VEVENT
END:VCALENDAR
