BEGIN:VCALENDAR
VERSION:2.0
PRODID:SchoolNow
CALSCALE:GREGORIAN
BEGIN:VEVENT
UID:e9547a8e-b3d3-11e9-920f-12d377995672
DTSTAMP:20190731T204354Z
SUMMARY:RED Bell\, 2:25 PM Dismissal
URL;VALUE=URI:https://www.bereanchristian.com/calendar/2044181/red-bell-2-2
 5-pm-dismissal-clone
DTSTART;VALUE=DATE:20200313
DTEND;VALUE=DATE:20200314
END:VEVENT
END:VCALENDAR
