BEGIN:VCALENDAR
VERSION:2.0
PRODID:SchoolNow
CALSCALE:GREGORIAN
BEGIN:VEVENT
UID:dcd28e9a-b3d3-11e9-ab43-12d377995672
DTSTAMP:20190731T204333Z
SUMMARY:RED Bell\, 2:25 PM Dismissal
URL;VALUE=URI:https://www.bereanchristian.com/calendar/2044180/red-bell-2-2
 5-pm-dismissal-clone
DTSTART;VALUE=DATE:20200306
DTEND;VALUE=DATE:20200307
END:VEVENT
END:VCALENDAR
