BEGIN:VCALENDAR
VERSION:2.0
PRODID:SchoolNow
CALSCALE:GREGORIAN
BEGIN:VEVENT
UID:cbb882ae-b3d3-11e9-bc77-12d377995672
DTSTAMP:20190731T204304Z
SUMMARY:RED Bell\, 2:25 PM Dismissal
URL;VALUE=URI:https://www.bereanchristian.com/calendar/2044179/red-bell-2-2
 5-pm-dismissal-clone
DTSTART;VALUE=DATE:20200228
DTEND;VALUE=DATE:20200229
END:VEVENT
END:VCALENDAR
