BEGIN:VCALENDAR
VERSION:2.0
PRODID:SchoolNow
CALSCALE:GREGORIAN
BEGIN:VEVENT
UID:1cdeb596-b3d3-11e9-9e3b-12d377995672
DTSTAMP:20190731T203811Z
SUMMARY:RED Bell\, 2:25 PM Dismissal
URL;VALUE=URI:https://www.bereanchristian.com/calendar/2044166/red-bell-2-2
 5-pm-dismissal-clone
DTSTART;VALUE=DATE:20190920
DTEND;VALUE=DATE:20190921
END:VEVENT
END:VCALENDAR
