BEGIN:VCALENDAR
VERSION:2.0
PRODID:SchoolNow
CALSCALE:GREGORIAN
BEGIN:VEVENT
UID:0da32a4e-b3d3-11e9-a3ed-12d377995672
DTSTAMP:20190731T203745Z
SUMMARY:RED Bell\, 2:25 PM Dismissal
URL;VALUE=URI:https://www.bereanchristian.com/calendar/2044165/red-bell-2-2
 5-pm-dismissal-clone
DTSTART;VALUE=DATE:20190913
DTEND;VALUE=DATE:20190914
END:VEVENT
END:VCALENDAR
