BEGIN:VCALENDAR
VERSION:2.0
PRODID:SchoolNow
CALSCALE:GREGORIAN
BEGIN:VEVENT
UID:6a0001e6-b3d2-11e9-8163-12d377995672
DTSTAMP:20190731T203311Z
SUMMARY:RED Bell\, 2:25 PM Dismissal
URL;VALUE=URI:https://www.bereanchristian.com/calendar/2044161/red-bell-2-2
 5-pm-dismissal
DTSTART;VALUE=DATE:20190823
DTEND;VALUE=DATE:20190824
END:VEVENT
END:VCALENDAR
