BEGIN:VCALENDAR
VERSION:2.0
PRODID:SchoolNow
CALSCALE:GREGORIAN
BEGIN:VEVENT
UID:ab3bde4c-b3d1-11e9-bf82-12d9de80558a
DTSTAMP:20190731T203111Z
SUMMARY:GOLD Bell\, 3:00 PM Dismissal
URL;VALUE=URI:https://www.bereanchristian.com/calendar/2044156/gold-bell-3-
 00-pm-dismissal-clone
DTSTART;VALUE=DATE:20190822
DTEND;VALUE=DATE:20190823
END:VEVENT
END:VCALENDAR
