BEGIN:VCALENDAR
VERSION:2.0
PRODID:SchoolNow
CALSCALE:GREGORIAN
BEGIN:VEVENT
UID:8e7e60cc-b3d1-11e9-82c1-12d9de80558a
DTSTAMP:20190731T202703Z
SUMMARY:GOLD Bell\, 3:00 PM Dismissal
URL;VALUE=URI:https://www.bereanchristian.com/calendar/2044155/gold-bell-3-
 00-pm-dismissal-clone
DTSTART;VALUE=DATE:20200430
DTEND;VALUE=DATE:20200501
END:VEVENT
END:VCALENDAR
