BEGIN:VCALENDAR
VERSION:2.0
PRODID:SchoolNow
CALSCALE:GREGORIAN
BEGIN:VEVENT
UID:677d27a6-b3d1-11e9-ae4d-12d9de80558a
DTSTAMP:20190731T202557Z
SUMMARY:GOLD Bell\, 3:00 PM Dismissal
URL;VALUE=URI:https://www.bereanchristian.com/calendar/2044153/gold-bell-3-
 00-pm-dismissal-clone
DTSTART;VALUE=DATE:20200416
DTEND;VALUE=DATE:20200417
END:VEVENT
END:VCALENDAR
