BEGIN:VCALENDAR
VERSION:2.0
PRODID:SchoolNow
CALSCALE:GREGORIAN
BEGIN:VEVENT
UID:54cf1e16-b3d1-11e9-aee1-12d9de80558a
DTSTAMP:20190731T202526Z
SUMMARY:GOLD Bell\, 3:00 PM Dismissal
URL;VALUE=URI:https://www.bereanchristian.com/calendar/2044152/gold-bell-3-
 00-pm-dismissal-clone
DTSTART;VALUE=DATE:20200402
DTEND;VALUE=DATE:20200403
END:VEVENT
END:VCALENDAR
