BEGIN:VCALENDAR
VERSION:2.0
PRODID:SchoolNow
CALSCALE:GREGORIAN
BEGIN:VEVENT
UID:43748a3e-b3d1-11e9-aef1-12d9de80558a
DTSTAMP:20190731T202457Z
SUMMARY:GOLD Bell\, 3:00 PM Dismissal
URL;VALUE=URI:https://www.bereanchristian.com/calendar/2044151/gold-bell-3-
 00-pm-dismissal-clone
DTSTART;VALUE=DATE:20200326
DTEND;VALUE=DATE:20200327
END:VEVENT
END:VCALENDAR
