BEGIN:VCALENDAR
VERSION:2.0
PRODID:SchoolNow
CALSCALE:GREGORIAN
BEGIN:VEVENT
UID:32940d98-b3d1-11e9-b3c4-12d9de80558a
DTSTAMP:20190731T202428Z
SUMMARY:GOLD Bell\, 3:00 PM Dismissal
URL;VALUE=URI:https://www.bereanchristian.com/calendar/2044150/gold-bell-3-
 00-pm-dismissal-clone
DTSTART;VALUE=DATE:20200319
DTEND;VALUE=DATE:20200320
END:VEVENT
END:VCALENDAR
