BEGIN:VCALENDAR
VERSION:2.0
PRODID:SchoolNow
CALSCALE:GREGORIAN
BEGIN:VEVENT
UID:1e468cc6-b3d1-11e9-b3eb-12d9de80558a
DTSTAMP:20190731T202354Z
SUMMARY:GOLD Bell\, 3:00 PM Dismissal
URL;VALUE=URI:https://www.bereanchristian.com/calendar/2044149/gold-bell-3-
 00-pm-dismissal-clone
DTSTART;VALUE=DATE:20200312
DTEND;VALUE=DATE:20200313
END:VEVENT
END:VCALENDAR
