BEGIN:VCALENDAR
VERSION:2.0
PRODID:SchoolNow
CALSCALE:GREGORIAN
BEGIN:VEVENT
UID:0bd65d5a-b3d1-11e9-8733-12d9de80558a
DTSTAMP:20190731T202323Z
SUMMARY:GOLD Bell\, 3:00 PM Dismissal
URL;VALUE=URI:https://www.bereanchristian.com/calendar/2044148/gold-bell-3-
 00-pm-dismissal-clone
DTSTART;VALUE=DATE:20200305
DTEND;VALUE=DATE:20200306
END:VEVENT
END:VCALENDAR
