BEGIN:VCALENDAR
VERSION:2.0
PRODID:SchoolNow
CALSCALE:GREGORIAN
BEGIN:VEVENT
UID:f0385e22-b3d0-11e9-bccb-12d9de80558a
DTSTAMP:20190731T202237Z
SUMMARY:GOLD Bell\, 3:00 PM Dismissal
URL;VALUE=URI:https://www.bereanchristian.com/calendar/2044146/gold-bell-3-
 00-pm-dismissal-clone
DTSTART;VALUE=DATE:20200220
DTEND;VALUE=DATE:20200221
END:VEVENT
END:VCALENDAR
