BEGIN:VCALENDAR
VERSION:2.0
PRODID:SchoolNow
CALSCALE:GREGORIAN
BEGIN:VEVENT
UID:dc4c14da-b3d0-11e9-a9e2-12d9de80558a
DTSTAMP:20190731T202204Z
SUMMARY:GOLD Bell\, 3:00 PM Dismissal
URL;VALUE=URI:https://www.bereanchristian.com/calendar/2044145/gold-bell-3-
 00-pm-dismissal-clone
DTSTART;VALUE=DATE:20200213
DTEND;VALUE=DATE:20200214
END:VEVENT
END:VCALENDAR
