BEGIN:VCALENDAR
VERSION:2.0
PRODID:SchoolNow
CALSCALE:GREGORIAN
BEGIN:VEVENT
UID:c774d97a-b3d0-11e9-bad5-12d9de80558a
DTSTAMP:20190731T202129Z
SUMMARY:GOLD Bell\, 3:00 PM Dismissal
URL;VALUE=URI:https://www.bereanchristian.com/calendar/2044144/gold-bell-3-
 00-pm-dismissal-clone
DTSTART;VALUE=DATE:20200206
DTEND;VALUE=DATE:20200207
END:VEVENT
END:VCALENDAR
