BEGIN:VCALENDAR
VERSION:2.0
PRODID:SchoolNow
CALSCALE:GREGORIAN
BEGIN:VEVENT
UID:18c320da-b3d0-11e9-8f56-12d9de80558a
DTSTAMP:20190731T201636Z
SUMMARY:GOLD Bell\, 3:00 PM Dismissal
URL;VALUE=URI:https://www.bereanchristian.com/calendar/2044136/gold-bell-3-
 00-pm-dismissal-clone
DTSTART;VALUE=DATE:20191031
DTEND;VALUE=DATE:20191101
END:VEVENT
END:VCALENDAR
