BEGIN:VCALENDAR
VERSION:2.0
PRODID:SchoolNow
CALSCALE:GREGORIAN
BEGIN:VEVENT
UID:0e35f7fa-b3d0-11e9-9a5f-12d9de80558a
DTSTAMP:20190731T201618Z
SUMMARY:GOLD Bell\, 3:00 PM Dismissal
URL;VALUE=URI:https://www.bereanchristian.com/calendar/2044123/gold-bell-3-
 00-pm-dismissal-clone
DTSTART;VALUE=DATE:20191024
DTEND;VALUE=DATE:20191025
END:VEVENT
END:VCALENDAR
