BEGIN:VCALENDAR
VERSION:2.0
PRODID:SchoolNow
CALSCALE:GREGORIAN
BEGIN:VEVENT
UID:f870035c-b3cf-11e9-b208-12d9de80558a
DTSTAMP:20190731T201541Z
SUMMARY:GOLD Bell\, 3:00 PM Dismissal
URL;VALUE=URI:https://www.bereanchristian.com/calendar/2044121/gold-bell-3-
 00-pm-dismissal-clone
DTSTART;VALUE=DATE:20191017
DTEND;VALUE=DATE:20191018
END:VEVENT
END:VCALENDAR
