BEGIN:VCALENDAR
VERSION:2.0
PRODID:SchoolNow
CALSCALE:GREGORIAN
BEGIN:VEVENT
UID:ed97070a-b3cf-11e9-9617-12d9de80558a
DTSTAMP:20190731T201523Z
SUMMARY:GOLD Bell\, 3:00 PM Dismissal
URL;VALUE=URI:https://www.bereanchristian.com/calendar/2044120/gold-bell-3-
 00-pm-dismissal-clone
DTSTART;VALUE=DATE:20191010
DTEND;VALUE=DATE:20191011
END:VEVENT
END:VCALENDAR
