BEGIN:VCALENDAR
VERSION:2.0
PRODID:SchoolNow
CALSCALE:GREGORIAN
BEGIN:VEVENT
UID:c98f0420-b3cf-11e9-a64e-12d9de80558a
DTSTAMP:20190731T201423Z
SUMMARY:GOLD Bell\, 3:00 PM Dismissal
URL;VALUE=URI:https://www.bereanchristian.com/calendar/2044117/gold-bell-3-
 00-pm-dismissal-clone
DTSTART;VALUE=DATE:20190919
DTEND;VALUE=DATE:20190920
END:VEVENT
END:VCALENDAR
